BEGIN:VCALENDAR
VERSION:2.0
PRODID:-//Tukios.com/
BEGIN:VEVENT
UID:6a5568f7-d8fe-4548-af46-419cff3b5f27@www.pauleyjones.com
DTSTAMP:20260423T035532Z
DTSTART:20260427T163000Z
DTEND:20260427T173000Z
SUMMARY:Burial
DESCRIPTION:
URL:https://www.pauleyjones.com/obituaries/keli-hansen
LOCATION: 1010 Umbrella Road  Harlan IA 51537
GEO:41.6477766;-95.1696958
END:VEVENT
END:VCALENDAR