BEGIN:VCALENDAR
VERSION:2.0
PRODID:-//Tukios.com/
BEGIN:VEVENT
UID:3bfcf50b-6f25-4567-9b21-13cf6fba17a8@www.pauleyjones.com
DTSTAMP:20260423T034556Z
DTSTART:20260427T153000Z
DTEND:20260427T163000Z
SUMMARY:Memorial Service
DESCRIPTION:
URL:https://www.pauleyjones.com/obituaries/keli-hansen
LOCATION:Bethlehem Lutheran Church 1010 Umbrella Road  Harlan IA 51537
GEO:41.6477766;-95.1696958
END:VEVENT
END:VCALENDAR