BEGIN:VCALENDAR
VERSION:2.0
PRODID:-//Tukios.com/
BEGIN:VEVENT
UID:3b93559b-0f21-4e5d-8b8b-bc4fede40009@www.pauleyjones.com
DTSTAMP:20260421T015846Z
DTSTART:20260427T170000Z
DTEND:20260427T180000Z
SUMMARY:Burial
DESCRIPTION:
URL:https://www.pauleyjones.com/obituaries/judy-summers
LOCATION: 911 12th Street  Harlan IA 51537
GEO:41.6586289;-95.3269367
END:VEVENT
END:VCALENDAR