BEGIN:VCALENDAR
VERSION:2.0
PRODID:-//Tukios.com/
BEGIN:VEVENT
UID:d9ea56b3-6695-45fc-9072-ae1282c11e53@www.pauleyjones.com
DTSTAMP:20260421T015336Z
DTSTART:20260427T160000Z
DTEND:20260427T170000Z
SUMMARY:Memorial Service
DESCRIPTION:
URL:https://www.pauleyjones.com/obituaries/judy-summers
LOCATION:Pauley Jones Funeral Home - Harlan 1304 9th Street  Harlan IA 
	51537
GEO:41.655546;-95.320952
END:VEVENT
END:VCALENDAR