BEGIN:VCALENDAR
VERSION:2.0
PRODID:-//Tukios.com/
BEGIN:VEVENT
UID:17ec7f80-c6fc-4bef-ae5f-05b3c4b85375@www.pauleyjones.com
DTSTAMP:20260420T092412Z
DTSTART:20260417T150000Z
DTEND:20260417T160000Z
SUMMARY:Visitation
DESCRIPTION:
URL:https://www.pauleyjones.com/obituaries/gertrude-jones
LOCATION:Pauley Jones Funeral Home - Harlan 1304 9th Street  Harlan IA 
	51537
GEO:41.655546;-95.320952
END:VEVENT
END:VCALENDAR