BEGIN:VCALENDAR
VERSION:2.0
PRODID:-//Tukios.com/
BEGIN:VEVENT
UID:19f307e5-fc6a-4dc7-87fe-e2ee46b3b88c@www.pauleyjones.com
DTSTAMP:20260423T035350Z
DTSTART:20260425T153000Z
DTEND:20260425T050000Z
SUMMARY:Mass of Christian Burial
DESCRIPTION:
URL:https://www.pauleyjones.com/obituaries/donna-plattner
LOCATION:St. Rose of Lima Catholic Church 916 2nd Avenue South  Denison 
	IA 51442
GEO:42.0152807;-95.3602151
END:VEVENT
END:VCALENDAR