BEGIN:VCALENDAR
VERSION:2.0
PRODID:-//Tukios.com/
BEGIN:VEVENT
UID:53df2738-add9-4c47-aa97-be8efbe07f99@www.pauleyjones.com
DTSTAMP:20260424T025833Z
DTSTART:20260501
SUMMARY:Burial
DESCRIPTION:
URL:https://www.pauleyjones.com/obituaries/ann-voggesser
LOCATION: 20286 US Highway 136  Tarkio MO 64491
GEO:40.4334436;-95.3872682
END:VEVENT
END:VCALENDAR