BEGIN:VCALENDAR
VERSION:2.0
PRODID:-//Tukios.com/
BEGIN:VEVENT
UID:340e50bf-7279-4f8d-9493-7a2309b10536@www.pauleyjones.com
DTSTAMP:20260424T030611Z
DTSTART:20260430T160000Z
DTEND:20260430T170000Z
SUMMARY:Funeral Service
DESCRIPTION:
URL:https://www.pauleyjones.com/obituaries/ann-voggesser
LOCATION:United Presbyterian Church 205 North 24th Street  Denison IA 
	51442
GEO:42.0194086;-95.3397434
END:VEVENT
END:VCALENDAR