BEGIN:VCALENDAR
VERSION:2.0
PRODID:-//Tukios.com/
BEGIN:VEVENT
UID:86412184-af1a-4990-8366-4ed07c708802@www.pauleyjones.com
DTSTAMP:20260424T025039Z
DTSTART:20260430T150000Z
DTEND:20260430T160000Z
SUMMARY:Visitation
DESCRIPTION:
URL:https://www.pauleyjones.com/obituaries/ann-voggesser
LOCATION:United Presbyterian Church 205 North 24th Street  Denison IA 
	51442
GEO:42.0194086;-95.3397434
END:VEVENT
END:VCALENDAR